BEGIN:VCALENDAR
VERSION:2.0
PRODID:-//HSV De Katvissers - ECPv6.15.20//NONSGML v1.0//EN
CALSCALE:GREGORIAN
METHOD:PUBLISH
X-ORIGINAL-URL:https://www.dekatvissers.be
X-WR-CALDESC:Evenementen voor HSV De Katvissers
REFRESH-INTERVAL;VALUE=DURATION:PT1H
X-Robots-Tag:noindex
X-PUBLISHED-TTL:PT1H
BEGIN:VTIMEZONE
TZID:Europe/Paris
BEGIN:DAYLIGHT
TZOFFSETFROM:+0100
TZOFFSETTO:+0200
TZNAME:CEST
DTSTART:20200329T010000
END:DAYLIGHT
BEGIN:STANDARD
TZOFFSETFROM:+0200
TZOFFSETTO:+0100
TZNAME:CET
DTSTART:20201025T010000
END:STANDARD
BEGIN:DAYLIGHT
TZOFFSETFROM:+0100
TZOFFSETTO:+0200
TZNAME:CEST
DTSTART:20210328T010000
END:DAYLIGHT
BEGIN:STANDARD
TZOFFSETFROM:+0200
TZOFFSETTO:+0100
TZNAME:CET
DTSTART:20211031T010000
END:STANDARD
BEGIN:DAYLIGHT
TZOFFSETFROM:+0100
TZOFFSETTO:+0200
TZNAME:CEST
DTSTART:20220327T010000
END:DAYLIGHT
BEGIN:STANDARD
TZOFFSETFROM:+0200
TZOFFSETTO:+0100
TZNAME:CET
DTSTART:20221030T010000
END:STANDARD
BEGIN:DAYLIGHT
TZOFFSETFROM:+0100
TZOFFSETTO:+0200
TZNAME:CEST
DTSTART:20230326T010000
END:DAYLIGHT
BEGIN:STANDARD
TZOFFSETFROM:+0200
TZOFFSETTO:+0100
TZNAME:CET
DTSTART:20231029T010000
END:STANDARD
BEGIN:DAYLIGHT
TZOFFSETFROM:+0100
TZOFFSETTO:+0200
TZNAME:CEST
DTSTART:20240331T010000
END:DAYLIGHT
BEGIN:STANDARD
TZOFFSETFROM:+0200
TZOFFSETTO:+0100
TZNAME:CET
DTSTART:20241027T010000
END:STANDARD
BEGIN:DAYLIGHT
TZOFFSETFROM:+0100
TZOFFSETTO:+0200
TZNAME:CEST
DTSTART:20250330T010000
END:DAYLIGHT
BEGIN:STANDARD
TZOFFSETFROM:+0200
TZOFFSETTO:+0100
TZNAME:CET
DTSTART:20251026T010000
END:STANDARD
BEGIN:DAYLIGHT
TZOFFSETFROM:+0100
TZOFFSETTO:+0200
TZNAME:CEST
DTSTART:20260329T010000
END:DAYLIGHT
BEGIN:STANDARD
TZOFFSETFROM:+0200
TZOFFSETTO:+0100
TZNAME:CET
DTSTART:20261025T010000
END:STANDARD
END:VTIMEZONE
BEGIN:VEVENT
DTSTART;TZID=Europe/Paris:20250810T083000
DTEND;TZID=Europe/Paris:20250810T173000
DTSTAMP:20260425T011359
CREATED:20250225T155633Z
LAST-MODIFIED:20250225T155633Z
UID:5514-1754814600-1754847000@www.dekatvissers.be
SUMMARY:2daagse duovissing Dag 2
DESCRIPTION:Loting om 08u30\nVissen van 10u00 tot 13u00 en van 14u30 tot 17u30 \nInschrijven voor de 2 wedstrijden bedraagt 70€ per duo (lunch inbegrepen)\nLoting/trekking van de geselecteerde plaatsen. Geen vrije keuze. “Trekken & gaan”\nEr wordt gedurende de volledige wedstrijd met 2 personen bak aan bak gevist. Enkel vaste stok\nEinduitslag op basis van samengetelde punten van de 2 wedstrijden. Bij ex-aequo telt het totaal gewicht over de 2 wedstrijden.\nAmorce toegelaten.\nBijvoeren na de pauze toegelaten
URL:https://www.dekatvissers.be/event/2daagse-duovissing-dag-2/
LOCATION:Sint-Elooiskreek\, Sint-Elooispolder 8\, Wachtebeke\, 9185\, België
CATEGORIES:Extra
ORGANIZER;CN="HSV De Katvissers":MAILTO:dekatvissers@outlook.be
END:VEVENT
BEGIN:VEVENT
DTSTART;TZID=Europe/Paris:20250809T083000
DTEND;TZID=Europe/Paris:20250809T173000
DTSTAMP:20260425T011359
CREATED:20250225T155541Z
LAST-MODIFIED:20250225T160202Z
UID:5512-1754728200-1754760600@www.dekatvissers.be
SUMMARY:2daagse duovissing Dag 1
DESCRIPTION:Loting om 08u30\nVissen van 10u00 tot 13u00 en van 14u30 tot 17u30 \nInschrijven voor de 2 wedstrijden bedraagt 70€ per duo (lunch inbegrepen)\nLoting/trekking van de geselecteerde plaatsen. Geen vrije keuze. “Trekken & gaan”\nEr wordt gedurende de volledige wedstrijd met 2 personen bak aan bak gevist. Enkel vaste stok\nEinduitslag op basis van samengetelde punten van de 2 wedstrijden. Bij ex-aequo telt het totaal gewicht over de 2 wedstrijden.\nAmorce toegelaten.\nBijvoeren na de pauze toegelaten
URL:https://www.dekatvissers.be/event/2daagse-duovissing-dag-1/
LOCATION:Sint-Elooiskreek\, Sint-Elooispolder 8\, Wachtebeke\, 9185\, België
CATEGORIES:Extra
ORGANIZER;CN="HSV De Katvissers":MAILTO:dekatvissers@outlook.be
END:VEVENT
BEGIN:VEVENT
DTSTART;TZID=Europe/Paris:20250628T064500
DTEND;TZID=Europe/Paris:20250628T170000
DTSTAMP:20260425T011359
CREATED:20250225T155340Z
LAST-MODIFIED:20250225T155340Z
UID:5510-1751093100-1751130000@www.dekatvissers.be
SUMMARY:Triovissing GP Rudi Schepens
DESCRIPTION:Loting om 06u45\nVissen van 08u00 tot 17u00 \nInschrijven voor de wedstrijd bedraagt 75 € per trio (incl middagmaal)\nPer team zijn er drie vissers. Er wordt per twee\, bak aan bak gevist\, ieder uur moet er gewisseld en is er iemand van de drie dan een uurtje vrij.\nDe vrije vissers mag helpen bij het scheppen van de vis.\nPer team moet er minstens 1 lid zijn van HSV De Katvissers\nEénmalig bijvoeren na de middag toegelaten.
URL:https://www.dekatvissers.be/event/triovissing-gp-rudi-schepens-3/
LOCATION:Sint-Elooiskreek\, Sint-Elooispolder 8\, Wachtebeke\, 9185\, België
CATEGORIES:Extra
ORGANIZER;CN="HSV De Katvissers":MAILTO:dekatvissers@outlook.be
END:VEVENT
BEGIN:VEVENT
DTSTART;TZID=Europe/Paris:20250524T083000
DTEND;TZID=Europe/Paris:20250524T173000
DTSTAMP:20260425T011359
CREATED:20250225T155138Z
LAST-MODIFIED:20250225T155138Z
UID:5508-1748075400-1748107800@www.dekatvissers.be
SUMMARY:Duovissing Vast/Feeder
DESCRIPTION:Loting om 08u30\nVissen 10u00 tot 13u00 en van 14u30 tot 17u30 \nInschrijven voor de wedstrijd bedraagt 50€ per duo (lunch inbegrepen)\nEr wordt gedurende de volledige wedstrijd met 2 personen bak aan bak gevist\nPer duo moet minimum met 1 vaste hengel gevist worden. De tweede visser heeft een keuze uit vaste stok of werphengel (feeder\, match). Werphengel afstand min. 15m max. 25m. Tijdens de wedstrijd mogen de teamleden onderling wisselen van hengelkeuze.\nAmorce toegelaten.\nBijvoeren na de pauze toegelaten
URL:https://www.dekatvissers.be/event/duovissing-vast-feeder/
LOCATION:Sint-Elooiskreek\, Sint-Elooispolder 8\, Wachtebeke\, 9185\, België
CATEGORIES:Extra
ORGANIZER;CN="HSV De Katvissers":MAILTO:dekatvissers@outlook.be
END:VEVENT
BEGIN:VEVENT
DTSTART;TZID=Europe/Paris:20240817T064500
DTEND;TZID=Europe/Paris:20240817T170000
DTSTAMP:20260425T011359
CREATED:20231229T134411Z
LAST-MODIFIED:20240815T073547Z
UID:5046-1723877100-1723914000@www.dekatvissers.be
SUMMARY:Triovissing GP Rudi Schepens
DESCRIPTION:Loting: 06u45\nVissen van 08u00 tot 17u00 \nInschrijven voor de wedstrijd bedraagt 75 € per trio (incl middagmaal) \nInschrijven per trio kan tot zondag 11 augustus 2023 \nPer team zijn er drie vissers. Er wordt per twee\, bak aan bak gevist\, ieder uur moet er gewisseld en is er iemand van de drie dan een uurtje vrij. \nDe vrije vissers mag helpen bij het scheppen van de vis. \nPer team moet er minstens 1 lid zijn van HSV De Katvissers \nMax 4 kg droog voer per trio. Amorce toegelaten. \nEénmalig bijvoeren na de middag toegelaten.
URL:https://www.dekatvissers.be/event/triovissing-gp-rudi-schepens-2/
LOCATION:Sint-Elooiskreek\, Sint-Elooispolder 8\, Wachtebeke\, 9185\, België
CATEGORIES:Extra
ORGANIZER;CN="HSV De Katvissers":MAILTO:dekatvissers@outlook.be
END:VEVENT
BEGIN:VEVENT
DTSTART;VALUE=DATE:20240728
DTEND;VALUE=DATE:20240729
DTSTAMP:20260425T011359
CREATED:20231229T133947Z
LAST-MODIFIED:20240623T081334Z
UID:5039-1722124800-1722211199@www.dekatvissers.be
SUMMARY:2daagse (dag 2)
DESCRIPTION:Zaterdag 27 juli & zondag 28 juli \n  10u00 tot 13u00 en van 14u30 17u30 (loting om 08u30) \nBijkomende afspraken (onder voorbehoud van mogelijke wijzigingen) \nInschrijven voor de 2 wedstrijden bedraagt 70€ per duo (lunch inbegrepen) \nLoting/trekking van de geselecteerde plaatsen. Geen vrije keuze. “Trekken & gaan” \nEr wordt gedurende de volledige wedstrijd met 2 personen bak aan bak gevist. Enkel vaste stok \nEinduitslag op basis van samengetelde punten van de 2 wedstrijden. Bij ex-aequo telt het totaal gewicht over de 2 wedstrijden. \nMax 2\,5 kg droog voer per duo. Amorce toegelaten. \nBijvoeren na de pauze toegelaten
URL:https://www.dekatvissers.be/event/2daagse-dag-2/
LOCATION:Sint-Elooiskreek\, Sint-Elooispolder 8\, Wachtebeke\, 9185\, België
CATEGORIES:Extra
ORGANIZER;CN="HSV De Katvissers":MAILTO:dekatvissers@outlook.be
END:VEVENT
BEGIN:VEVENT
DTSTART;VALUE=DATE:20240727
DTEND;VALUE=DATE:20240728
DTSTAMP:20260425T011359
CREATED:20231229T133915Z
LAST-MODIFIED:20240623T081308Z
UID:5037-1722038400-1722124799@www.dekatvissers.be
SUMMARY:2daagse (dag 1)
DESCRIPTION:Zaterdag 27 juli & zondag 28 juli \n  10u00 tot 13u00 en van 14u30 17u30 (loting om 08u30) \nBijkomende afspraken (onder voorbehoud van mogelijke wijzigingen) \nInschrijven voor de 2 wedstrijden bedraagt 70€ per duo (lunch inbegrepen) \nLoting/trekking van de geselecteerde plaatsen. Geen vrije keuze. “Trekken & gaan” \nEr wordt gedurende de volledige wedstrijd met 2 personen bak aan bak gevist. Enkel vaste stok \nEinduitslag op basis van samengetelde punten van de 2 wedstrijden. Bij ex-aequo telt het totaal gewicht over de 2 wedstrijden. \nMax 2\,5 kg droog voer per duo. Amorce toegelaten. \nBijvoeren na de pauze toegelaten
URL:https://www.dekatvissers.be/event/2daagse/
LOCATION:Sint-Elooiskreek\, Sint-Elooispolder 8\, Wachtebeke\, 9185\, België
CATEGORIES:Extra
ORGANIZER;CN="HSV De Katvissers":MAILTO:dekatvissers@outlook.be
END:VEVENT
BEGIN:VEVENT
DTSTART;TZID=Europe/Paris:20240608T083000
DTEND;TZID=Europe/Paris:20240608T173000
DTSTAMP:20260425T011359
CREATED:20231228T161516Z
LAST-MODIFIED:20240511T100555Z
UID:5019-1717835400-1717867800@www.dekatvissers.be
SUMMARY:Koppelwedstrijd
DESCRIPTION:Zaterdag 8 juni \n  10u00 tot 13u00 en van 14u30 17u30 (loting om 08u30) \nBijkomende afspraken (onder voorbehoud van mogelijke wijzigingen) \nInschrijven voor de wedstrijd bedraagt 50€ per duo (lunch inbegrepen). Inschrijven bij Steven Beharez \nEr wordt gedurende de volledige wedstrijd met 2 personen bak aan bak gevist \nPer duo moet minimum met 1 vaste hengel gevist worden. De tweede visser heeft een keuze uit vaste stok of werphengel (feeder\, match). Werphengel afstand min. 15m max. 25m. Tijdens de wedstrijd mogen de teamleden onderling wisselen van hengelkeuze. \nMax 2\,5 kg droog voer per duo. Amorce toegelaten. \nBijvoeren na de pauze toegelaten
URL:https://www.dekatvissers.be/event/koppelwedstrijd/
LOCATION:Sint-Elooiskreek\, Sint-Elooispolder 8\, Wachtebeke\, 9185\, België
CATEGORIES:Extra
ORGANIZER;CN="HSV De Katvissers":MAILTO:dekatvissers@outlook.be
END:VEVENT
BEGIN:VEVENT
DTSTART;TZID=Europe/Paris:20231111T103000
DTEND;TZID=Europe/Paris:20231111T163000
DTSTAMP:20260425T011359
CREATED:20231008T090503Z
LAST-MODIFIED:20231015T070100Z
UID:4847-1699698600-1699720200@www.dekatvissers.be
SUMMARY:Feederwedstrijd
DESCRIPTION:Loting om 10u30 en vissen van 11u30 tot 13u30 en van 14u30 tot 16u30.\nInleg 5€. 1 op 3 prijs\nLijnlengte min 15 en max 35 meter.\nMaximaal 18 deelnemers. Voorrang voor leden van De Katvissers – laatste ingeschrevenen vallen af bij overschrijding van het aantal \nVerplicht op voorhand inschrijven bij Rudi Schepens tot 6 nov (liefst via “wedstrijdvissers 2.2”)
URL:https://www.dekatvissers.be/event/feederwedstrijd/
LOCATION:Sint-Elooiskreek\, Sint-Elooispolder 8\, Wachtebeke\, 9185\, België
CATEGORIES:Extra
ORGANIZER;CN="HSV De Katvissers":MAILTO:dekatvissers@outlook.be
END:VEVENT
BEGIN:VEVENT
DTSTART;TZID=Europe/Paris:20230927T114500
DTEND;TZID=Europe/Paris:20230927T171500
DTSTAMP:20260425T011359
CREATED:20221218T092448Z
LAST-MODIFIED:20230909T063309Z
UID:4406-1695815100-1695834900@www.dekatvissers.be
SUMMARY:50plus De Grijze Duif
DESCRIPTION:LET OP : GEWIJZIGDE UREN!\nLoting om 11u45\nVissen van 12u45 tot 14u45 en van 15u15 tot 17u15\nEnkel voor vissers die minimum 3 50plus wedstrijden heeft mee gevist
URL:https://www.dekatvissers.be/event/50plus-eendagswedstrijd/
LOCATION:Sint-Elooiskreek\, Sint-Elooispolder 8\, Wachtebeke\, 9185\, België
CATEGORIES:50plus,Extra
ORGANIZER;CN="HSV De Katvissers":MAILTO:dekatvissers@outlook.be
END:VEVENT
BEGIN:VEVENT
DTSTART;VALUE=DATE:20230805
DTEND;VALUE=DATE:20230806
DTSTAMP:20260425T011359
CREATED:20221211T195725Z
LAST-MODIFIED:20230627T193814Z
UID:4378-1691193600-1691279999@www.dekatvissers.be
SUMMARY:Triovissing GP Rudi Schepens
DESCRIPTION:Zaterdag 5 augustus van 8u00 tot 17u00 (loting om 06u45) \nPer team zijn er drie vissers. Er wordt per twee\, bak aan bak gevist\, ieder uur wordt er gewisseld en is er iemand van de drie dan een uurtje vrij\nPer team moet er minstens 1 lid zijn van HSV De Katvissers\nMax 4 kg droog voer per trio. Amorce toegelaten.\nEénmalig bijvoeren na de middag toegelaten. \nInschrijven voor de wedstrijd bedraagt 75 € per trio (incl middagmaal)\nInschrijven per trio kan tot dinsdag 1 augustus 2023
URL:https://www.dekatvissers.be/event/triovissing-gp-rudi-schepens/
LOCATION:Sint-Elooiskreek\, Sint-Elooispolder 8\, Wachtebeke\, 9185\, België
CATEGORIES:Extra
ORGANIZER;CN="HSV De Katvissers":MAILTO:dekatvissers@outlook.be
END:VEVENT
BEGIN:VEVENT
DTSTART;VALUE=DATE:20230701
DTEND;VALUE=DATE:20230702
DTSTAMP:20260425T011359
CREATED:20221211T195628Z
LAST-MODIFIED:20230627T193739Z
UID:4376-1688169600-1688255999@www.dekatvissers.be
SUMMARY:Marathonvissing GP Henri Everaert
DESCRIPTION:Vissen van 09u00 tot 12u00 en van 13u30 16u30 (loting om 07u30)\nKoppel. Bak aan bak\nMin 1 vaste hengel per koppel. Ander keuze uit vast stok of werphengel (feeder\, match). Werphengel afstand min. 15m max.25m.\nMax 2\,5kg droog voer / koppel. Voering bij start van wedstrijd & na de pauze\nInschrijven voor de wedstrijd bedraagt 50€ / koppel (lunch inbegrepen)\nInschrijven per koppel kan tot dinsdag 27 juni 2023
URL:https://www.dekatvissers.be/event/marathon/
LOCATION:Sint-Elooiskreek\, Sint-Elooispolder 8\, Wachtebeke\, 9185\, België
CATEGORIES:Extra
ORGANIZER;CN="HSV De Katvissers":MAILTO:dekatvissers@outlook.be
END:VEVENT
BEGIN:VEVENT
DTSTART;VALUE=DATE:20230603
DTEND;VALUE=DATE:20230604
DTSTAMP:20260425T011359
CREATED:20221211T195545Z
LAST-MODIFIED:20230525T190429Z
UID:4374-1685750400-1685836799@www.dekatvissers.be
SUMMARY:Koppelvissing
DESCRIPTION:Inschrijven bij Steven Beharez tot dinsdag 30-05-2023\nInleg per koppel : 50€ (inclusief lunch – spitsburgers)\nLoting : 7u30\nVissen van 9u00 tot 12u00 en van 14u00 tot 17u00\nVoorwaarde : elke visser moet vergunning hebben van de Sint-Elooiskreek\nVissen bak aan bak\nPrijzen : 1/2 of 1/3 afhankelijk van het aantal ingeschreven koppels
URL:https://www.dekatvissers.be/event/koppelvissing/
LOCATION:Sint-Elooiskreek\, Sint-Elooispolder 8\, Wachtebeke\, 9185\, België
CATEGORIES:Extra
ORGANIZER;CN="HSV De Katvissers":MAILTO:dekatvissers@outlook.be
END:VEVENT
BEGIN:VEVENT
DTSTART;TZID=Europe/Paris:20230423T080000
DTEND;TZID=Europe/Paris:20230423T170000
DTSTAMP:20260425T011359
CREATED:20230122T115753Z
LAST-MODIFIED:20230122T115753Z
UID:4454-1682236800-1682269200@www.dekatvissers.be
SUMMARY:Karperwedstrijd
DESCRIPTION:
URL:https://www.dekatvissers.be/event/karperwedstrijd-5/
LOCATION:Walderdonk\, Walderdonk 89\, Wachtebeke\, 9185\, België
CATEGORIES:Extra,Karper
ORGANIZER;CN="HSV De Katvissers":MAILTO:dekatvissers@outlook.be
END:VEVENT
BEGIN:VEVENT
DTSTART;TZID=Europe/Paris:20221008T103000
DTEND;TZID=Europe/Paris:20221008T164500
DTSTAMP:20260425T011359
CREATED:20220108T081603Z
LAST-MODIFIED:20220501T080443Z
UID:4016-1665225000-1665247500@www.dekatvissers.be
SUMMARY:Koningvissing
DESCRIPTION:
URL:https://www.dekatvissers.be/event/koningvissing/
LOCATION:Sint-Elooiskreek\, Sint-Elooispolder 8\, Wachtebeke\, 9185\, België
CATEGORIES:Extra
ORGANIZER;CN="HSV De Katvissers":MAILTO:dekatvissers@outlook.be
END:VEVENT
BEGIN:VEVENT
DTSTART;TZID=Europe/Paris:20220813T064500
DTEND;TZID=Europe/Paris:20220813T170000
DTSTAMP:20260425T011359
CREATED:20220108T080925Z
LAST-MODIFIED:20220501T080823Z
UID:4004-1660373100-1660410000@www.dekatvissers.be
SUMMARY:Triovissing grote prijs Rudi Schepens
DESCRIPTION:
URL:https://www.dekatvissers.be/event/triovissing-grote-prijs-rudi-schepens/
LOCATION:Sint-Elooiskreek\, Sint-Elooispolder 8\, Wachtebeke\, 9185\, België
CATEGORIES:Extra
ORGANIZER;CN="HSV De Katvissers":MAILTO:dekatvissers@outlook.be
END:VEVENT
BEGIN:VEVENT
DTSTART;TZID=Europe/Paris:20220723T073000
DTEND;TZID=Europe/Paris:20220723T170000
DTSTAMP:20260425T011359
CREATED:20220108T081057Z
LAST-MODIFIED:20220501T081046Z
UID:4008-1658561400-1658595600@www.dekatvissers.be
SUMMARY:Koppelmarathon Henry Everaert
DESCRIPTION:
URL:https://www.dekatvissers.be/event/koppelmarathon/
LOCATION:Sint-Elooiskreek\, Sint-Elooispolder 8\, Wachtebeke\, 9185\, België
CATEGORIES:Extra
ORGANIZER;CN="HSV De Katvissers":MAILTO:dekatvissers@outlook.be
END:VEVENT
BEGIN:VEVENT
DTSTART;TZID=Europe/Paris:20211113T080000
DTEND;TZID=Europe/Paris:20211113T160000
DTSTAMP:20260425T011359
CREATED:20210117T095624Z
LAST-MODIFIED:20210307T080101Z
UID:1073-1636790400-1636819200@www.dekatvissers.be
SUMMARY:Karperwedstrijd
DESCRIPTION:Afhankelijk van het aantal geïnteresseerden is dit een individuele of een koppelwedstrijd. \n\n\n\n\nGeen voering toegelaten\, enkel pellets (ter plaatse te verkrijgen). Pasta niet toegelaten. \n\n\n\nBijkomende afspraken worden later gecommuniceerd. \n\n\n\n 
URL:https://www.dekatvissers.be/event/karperwedstrijd/
LOCATION:Walderdonk\, Walderdonk 89\, Wachtebeke\, 9185\, België
CATEGORIES:Extra
ORGANIZER;CN="HSV De Katvissers":MAILTO:dekatvissers@outlook.be
END:VEVENT
BEGIN:VEVENT
DTSTART;TZID=Europe/Paris:20210721T073000
DTEND;TZID=Europe/Paris:20210721T170000
DTSTAMP:20260425T011359
CREATED:20210123T152245Z
LAST-MODIFIED:20210123T152419Z
UID:1206-1626852600-1626886800@www.dekatvissers.be
SUMMARY:De Katvissers Koppelmarathon
DESCRIPTION:
URL:https://www.dekatvissers.be/event/de-katvissers-koppelmarathon/
LOCATION:Sint-Elooiskreek\, Sint-Elooispolder 8\, Wachtebeke\, 9185\, België
CATEGORIES:Extra
ORGANIZER;CN="HSV De Katvissers":MAILTO:dekatvissers@outlook.be
END:VEVENT
BEGIN:VEVENT
DTSTART;VALUE=DATE:20210704
DTEND;VALUE=DATE:20210705
DTSTAMP:20260425T011359
CREATED:20210123T151952Z
LAST-MODIFIED:20210123T151952Z
UID:1200-1625356800-1625443199@www.dekatvissers.be
SUMMARY:Witvis Open wedstrijd (kermis)
DESCRIPTION:Zie HSV Witvis
URL:https://www.dekatvissers.be/event/witvis-open-wedstrijd-kermis/
LOCATION:Sint-Elooiskreek\, Sint-Elooispolder 8\, Wachtebeke\, 9185\, België
CATEGORIES:Extra
END:VEVENT
BEGIN:VEVENT
DTSTART;TZID=Europe/Paris:20210605T064500
DTEND;TZID=Europe/Paris:20210605T170000
DTSTAMP:20260425T011359
CREATED:20210123T151204Z
LAST-MODIFIED:20210530T120549Z
UID:1186-1622875500-1622912400@www.dekatvissers.be
SUMMARY:De Katvissers Triovissing
DESCRIPTION:Loting : 6u45\nVissen van 8u00 tot 17u00
URL:https://www.dekatvissers.be/event/de-katvissers-triovissing/
LOCATION:Walderdonk\, Walderdonk 89\, Wachtebeke\, 9185\, België
CATEGORIES:Extra
ORGANIZER;CN="HSV De Katvissers":MAILTO:dekatvissers@outlook.be
END:VEVENT
BEGIN:VEVENT
DTSTART;TZID=Europe/Paris:20210313T080000
DTEND;TZID=Europe/Paris:20210313T160000
DTSTAMP:20260425T011359
CREATED:20210123T154204Z
LAST-MODIFIED:20210307T080128Z
UID:1239-1615622400-1615651200@www.dekatvissers.be
SUMMARY:De Katvissers Individuele oefenessie karper
DESCRIPTION:Wijziging : de geplande karperwedstrijd wordt geannuleerd. In de plaats is er een mogelijkheid voor een individuele oefensessie met het ook op de triossing later dit jaar. \nBijdrage in de kosten: 5 € \n\n\n\n\nGeen voering toegelaten\, enkel pellets (ter plaatse te verkrijgen). Pasta niet toegelaten.
URL:https://www.dekatvissers.be/event/de-katvissers-karperwedstrijd/
LOCATION:Walderdonk\, Walderdonk 89\, Wachtebeke\, 9185\, België
CATEGORIES:Extra
ORGANIZER;CN="HSV De Katvissers":MAILTO:dekatvissers@outlook.be
END:VEVENT
END:VCALENDAR