BEGIN:VCALENDAR
VERSION:2.0
PRODID:-//HSV De Katvissers - ECPv6.15.20//NONSGML v1.0//EN
CALSCALE:GREGORIAN
METHOD:PUBLISH
X-WR-CALNAME:HSV De Katvissers
X-ORIGINAL-URL:https://www.dekatvissers.be
X-WR-CALDESC:Evenementen voor HSV De Katvissers
REFRESH-INTERVAL;VALUE=DURATION:PT1H
X-Robots-Tag:noindex
X-PUBLISHED-TTL:PT1H
BEGIN:VTIMEZONE
TZID:Europe/Paris
BEGIN:DAYLIGHT
TZOFFSETFROM:+0100
TZOFFSETTO:+0200
TZNAME:CEST
DTSTART:20250330T010000
END:DAYLIGHT
BEGIN:STANDARD
TZOFFSETFROM:+0200
TZOFFSETTO:+0100
TZNAME:CET
DTSTART:20251026T010000
END:STANDARD
BEGIN:DAYLIGHT
TZOFFSETFROM:+0100
TZOFFSETTO:+0200
TZNAME:CEST
DTSTART:20260329T010000
END:DAYLIGHT
BEGIN:STANDARD
TZOFFSETFROM:+0200
TZOFFSETTO:+0100
TZNAME:CET
DTSTART:20261025T010000
END:STANDARD
BEGIN:DAYLIGHT
TZOFFSETFROM:+0100
TZOFFSETTO:+0200
TZNAME:CEST
DTSTART:20270328T010000
END:DAYLIGHT
BEGIN:STANDARD
TZOFFSETFROM:+0200
TZOFFSETTO:+0100
TZNAME:CET
DTSTART:20271031T010000
END:STANDARD
END:VTIMEZONE
BEGIN:VEVENT
DTSTART;TZID=Europe/Paris:20260422T111500
DTEND;TZID=Europe/Paris:20260422T170000
DTSTAMP:20260420T163334
CREATED:20251013T172132Z
LAST-MODIFIED:20260201T121247Z
UID:5816-1776856500-1776877200@www.dekatvissers.be
SUMMARY:50plus 1
DESCRIPTION:Loting om 11u15\nVissen van 12u30 tot 17u00 (met pauze)\nMeer info op https://www.dekatvissers.be/wedstrijdreglement-2026
URL:https://www.dekatvissers.be/event/50plus-1-5/
LOCATION:Sint-Elooiskreek\, Sint-Elooispolder 8\, Wachtebeke\, 9185\, België
CATEGORIES:50plus
ORGANIZER;CN="HSV De Katvissers":MAILTO:dekatvissers@outlook.be
END:VEVENT
BEGIN:VEVENT
DTSTART;TZID=Europe/Paris:20260509T113000
DTEND;TZID=Europe/Paris:20260509T174500
DTSTAMP:20260420T163334
CREATED:20251004T092643Z
LAST-MODIFIED:20260201T120915Z
UID:5755-1778326200-1778348700@www.dekatvissers.be
SUMMARY:Kampioenschap 2
DESCRIPTION:Loting om 11u30\nVissen van 13u00 tot 17u45 (met pauze)\nMeer info op https://www.dekatvissers.be/wedstrijdreglement-2026
URL:https://www.dekatvissers.be/event/kampioenschap-2-5/
LOCATION:Sint-Elooiskreek\, Sint-Elooispolder 8\, Wachtebeke\, 9185\, België
CATEGORIES:Kampioenschap
ORGANIZER;CN="HSV De Katvissers":MAILTO:dekatvissers@outlook.be
END:VEVENT
BEGIN:VEVENT
DTSTART;TZID=Europe/Paris:20260523T083000
DTEND;TZID=Europe/Paris:20260523T173000
DTSTAMP:20260420T163334
CREATED:20251004T093128Z
LAST-MODIFIED:20260201T121558Z
UID:5769-1779525000-1779557400@www.dekatvissers.be
SUMMARY:Marathon duovissing (vast/feeder)
DESCRIPTION:Loting om 08u30\nVissen van 10u00 tot 17u30 (met pauze)\nMeer info op https://www.dekatvissers.be/wedstrijdreglement-2026
URL:https://www.dekatvissers.be/event/marathon-duovissing-vast-feeder/
LOCATION:Sint-Elooiskreek\, Sint-Elooispolder 8\, Wachtebeke\, 9185\, België
CATEGORIES:Extra
ORGANIZER;CN="HSV De Katvissers":MAILTO:dekatvissers@outlook.be
END:VEVENT
BEGIN:VEVENT
DTSTART;TZID=Europe/Paris:20260527T111500
DTEND;TZID=Europe/Paris:20260527T170000
DTSTAMP:20260420T163334
CREATED:20251013T172202Z
LAST-MODIFIED:20260201T121309Z
UID:5818-1779880500-1779901200@www.dekatvissers.be
SUMMARY:50plus 2
DESCRIPTION:Loting om 11u15\nVissen van 12u30 tot 17u00 (met pauze)\nMeer info op https://www.dekatvissers.be/wedstrijdreglement-2026
URL:https://www.dekatvissers.be/event/50plus-2-5/
LOCATION:Sint-Elooiskreek\, Sint-Elooispolder 8\, Wachtebeke\, 9185\, België
CATEGORIES:50plus
ORGANIZER;CN="HSV De Katvissers":MAILTO:dekatvissers@outlook.be
END:VEVENT
BEGIN:VEVENT
DTSTART;TZID=Europe/Paris:20260610T111500
DTEND;TZID=Europe/Paris:20260610T170000
DTSTAMP:20260420T163334
CREATED:20251013T172233Z
LAST-MODIFIED:20260201T121334Z
UID:5820-1781090100-1781110800@www.dekatvissers.be
SUMMARY:50plus 3
DESCRIPTION:Loting om 11u15\nVissen van 12u30 tot 17u00 (met pauze)\nMeer info op https://www.dekatvissers.be/wedstrijdreglement-2026
URL:https://www.dekatvissers.be/event/50plus-3-5/
LOCATION:Sint-Elooiskreek\, Sint-Elooispolder 8\, Wachtebeke\, 9185\, België
CATEGORIES:50plus
ORGANIZER;CN="HSV De Katvissers":MAILTO:dekatvissers@outlook.be
END:VEVENT
BEGIN:VEVENT
DTSTART;TZID=Europe/Paris:20260613T064500
DTEND;TZID=Europe/Paris:20260613T170000
DTSTAMP:20260420T163334
CREATED:20251004T093222Z
LAST-MODIFIED:20260201T121658Z
UID:5771-1781333100-1781370000@www.dekatvissers.be
SUMMARY:Triovissing GP Rudi Schepens
DESCRIPTION:Loting om 06u45\nVissen van 08u00 tot 17u00\nMeer info op https://www.dekatvissers.be/wedstrijdreglement-2026
URL:https://www.dekatvissers.be/event/triovissing-gp-rudi-schepens-4/
LOCATION:Sint-Elooiskreek\, Sint-Elooispolder 8\, Wachtebeke\, 9185\, België
CATEGORIES:Extra
ORGANIZER;CN="HSV De Katvissers":MAILTO:dekatvissers@outlook.be
END:VEVENT
BEGIN:VEVENT
DTSTART;TZID=Europe/Paris:20260627T113000
DTEND;TZID=Europe/Paris:20260627T174500
DTSTAMP:20260420T163334
CREATED:20251004T092722Z
LAST-MODIFIED:20260201T120940Z
UID:5757-1782559800-1782582300@www.dekatvissers.be
SUMMARY:Kampioenschap 3
DESCRIPTION:Loting om 11u30\nVissen van 13u00 tot 17u45 (met pauze)\nMeer info op https://www.dekatvissers.be/wedstrijdreglement-2026
URL:https://www.dekatvissers.be/event/kampioenschap-3-5/
LOCATION:Sint-Elooiskreek\, Sint-Elooispolder 8\, Wachtebeke\, 9185\, België
CATEGORIES:Kampioenschap
ORGANIZER;CN="HSV De Katvissers":MAILTO:dekatvissers@outlook.be
END:VEVENT
BEGIN:VEVENT
DTSTART;TZID=Europe/Paris:20260701T111500
DTEND;TZID=Europe/Paris:20260701T170000
DTSTAMP:20260420T163334
CREATED:20251013T172314Z
LAST-MODIFIED:20260201T121356Z
UID:5822-1782904500-1782925200@www.dekatvissers.be
SUMMARY:50plus 4
DESCRIPTION:Loting om 11u15\nVissen van 12u30 tot 17u00 (met pauze)\nMeer info op https://www.dekatvissers.be/wedstrijdreglement-2026
URL:https://www.dekatvissers.be/event/50plus-4-5/
LOCATION:Sint-Elooiskreek\, Sint-Elooispolder 8\, Wachtebeke\, 9185\, België
CATEGORIES:50plus
ORGANIZER;CN="HSV De Katvissers":MAILTO:dekatvissers@outlook.be
END:VEVENT
BEGIN:VEVENT
DTSTART;TZID=Europe/Paris:20260719T113000
DTEND;TZID=Europe/Paris:20260719T174500
DTSTAMP:20260420T163334
CREATED:20251004T092753Z
LAST-MODIFIED:20260201T121004Z
UID:5759-1784460600-1784483100@www.dekatvissers.be
SUMMARY:Kampioenschap 4
DESCRIPTION:Loting om 11u30\nVissen van 13u00 tot 17u45 (met pauze)\nMeer info op https://www.dekatvissers.be/wedstrijdreglement-2026
URL:https://www.dekatvissers.be/event/kampioenschap-4-5/
LOCATION:Sint-Elooiskreek\, Sint-Elooispolder 8\, Wachtebeke\, 9185\, België
CATEGORIES:Kampioenschap
ORGANIZER;CN="HSV De Katvissers":MAILTO:dekatvissers@outlook.be
END:VEVENT
BEGIN:VEVENT
DTSTART;TZID=Europe/Paris:20260805T111500
DTEND;TZID=Europe/Paris:20260805T170000
DTSTAMP:20260420T163334
CREATED:20251013T172347Z
LAST-MODIFIED:20260201T121419Z
UID:5824-1785928500-1785949200@www.dekatvissers.be
SUMMARY:50plus 5
DESCRIPTION:Loting om 11u15\nVissen van 12u30 tot 17u00 (met pauze)\nMeer info op https://www.dekatvissers.be/wedstrijdreglement-2026
URL:https://www.dekatvissers.be/event/50plus-5-5/
LOCATION:Sint-Elooiskreek\, Sint-Elooispolder 8\, Wachtebeke\, 9185\, België
CATEGORIES:50plus
ORGANIZER;CN="HSV De Katvissers":MAILTO:dekatvissers@outlook.be
END:VEVENT
BEGIN:VEVENT
DTSTART;TZID=Europe/Paris:20260808T083000
DTEND;TZID=Europe/Paris:20260808T173000
DTSTAMP:20260420T163334
CREATED:20251004T093303Z
LAST-MODIFIED:20260201T121735Z
UID:5773-1786177800-1786210200@www.dekatvissers.be
SUMMARY:2daagse Duovissing
DESCRIPTION:Loting om 08u30\nVissen van 10u00 tot 17u30 (met pauze)\nMeer info op https://www.dekatvissers.be/wedstrijdreglement-2026
URL:https://www.dekatvissers.be/event/2daagse-duovissing/
LOCATION:Sint-Elooiskreek\, Sint-Elooispolder 8\, Wachtebeke\, 9185\, België
CATEGORIES:Extra
ORGANIZER;CN="HSV De Katvissers":MAILTO:dekatvissers@outlook.be
END:VEVENT
BEGIN:VEVENT
DTSTART;TZID=Europe/Paris:20260809T083000
DTEND;TZID=Europe/Paris:20260809T173000
DTSTAMP:20260420T163334
CREATED:20251004T093326Z
LAST-MODIFIED:20260201T121757Z
UID:5775-1786264200-1786296600@www.dekatvissers.be
SUMMARY:2daagse Duovissing
DESCRIPTION:Loting om 08u30\nVissen van 10u00 tot 17u30 (met pauze)\nMeer info op https://www.dekatvissers.be/wedstrijdreglement-2026
URL:https://www.dekatvissers.be/event/2daagse-duovissing-2/
LOCATION:Sint-Elooiskreek\, Sint-Elooispolder 8\, Wachtebeke\, 9185\, België
CATEGORIES:Extra
ORGANIZER;CN="HSV De Katvissers":MAILTO:dekatvissers@outlook.be
END:VEVENT
BEGIN:VEVENT
DTSTART;TZID=Europe/Paris:20260829T113000
DTEND;TZID=Europe/Paris:20260829T174500
DTSTAMP:20260420T163334
CREATED:20251004T092832Z
LAST-MODIFIED:20260201T121037Z
UID:5761-1788003000-1788025500@www.dekatvissers.be
SUMMARY:Kampioenschap 5
DESCRIPTION:Loting om 11u30\nVissen van 13u00 tot 17u45 (met pauze)\nMeer info op https://www.dekatvissers.be/wedstrijdreglement-2026
URL:https://www.dekatvissers.be/event/kampioenschap-5-5/
LOCATION:Sint-Elooiskreek\, Sint-Elooispolder 8\, Wachtebeke\, 9185\, België
CATEGORIES:Kampioenschap
ORGANIZER;CN="HSV De Katvissers":MAILTO:dekatvissers@outlook.be
END:VEVENT
BEGIN:VEVENT
DTSTART;TZID=Europe/Paris:20260905T113000
DTEND;TZID=Europe/Paris:20260905T174500
DTSTAMP:20260420T163334
CREATED:20251004T092912Z
LAST-MODIFIED:20260201T121058Z
UID:5763-1788607800-1788630300@www.dekatvissers.be
SUMMARY:Kampioenschap 6
DESCRIPTION:Loting om 11u30\nVissen van 13u00 tot 17u45 (met pauze)\nMeer info op https://www.dekatvissers.be/wedstrijdreglement-2026
URL:https://www.dekatvissers.be/event/kampioenschap-6-4/
LOCATION:Sint-Elooiskreek\, Sint-Elooispolder 8\, Wachtebeke\, 9185\, België
CATEGORIES:Kampioenschap
ORGANIZER;CN="HSV De Katvissers":MAILTO:dekatvissers@outlook.be
END:VEVENT
BEGIN:VEVENT
DTSTART;TZID=Europe/Paris:20260909T111500
DTEND;TZID=Europe/Paris:20260909T170000
DTSTAMP:20260420T163334
CREATED:20251013T172436Z
LAST-MODIFIED:20260201T121446Z
UID:5826-1788952500-1788973200@www.dekatvissers.be
SUMMARY:De grijze duif
DESCRIPTION:Loting om 11u15\nVissen van 12u30 tot 17u00 (met pauze)\nMeer info op https://www.dekatvissers.be/wedstrijdreglement-2026
URL:https://www.dekatvissers.be/event/de-grijze-duif/
LOCATION:Sint-Elooiskreek\, Sint-Elooispolder 8\, Wachtebeke\, 9185\, België
CATEGORIES:Koning
ORGANIZER;CN="HSV De Katvissers":MAILTO:dekatvissers@outlook.be
END:VEVENT
BEGIN:VEVENT
DTSTART;TZID=Europe/Paris:20260926T113000
DTEND;TZID=Europe/Paris:20260926T174500
DTSTAMP:20260420T163334
CREATED:20251004T092941Z
LAST-MODIFIED:20260201T121115Z
UID:5765-1790422200-1790444700@www.dekatvissers.be
SUMMARY:Kampioenschap 7
DESCRIPTION:Loting om 11u30\nVissen van 13u00 tot 17u45 (met pauze)\nMeer info op https://www.dekatvissers.be/wedstrijdreglement-2026
URL:https://www.dekatvissers.be/event/kampioenschap-7-5/
LOCATION:Sint-Elooiskreek\, Sint-Elooispolder 8\, Wachtebeke\, 9185\, België
CATEGORIES:Kampioenschap
ORGANIZER;CN="HSV De Katvissers":MAILTO:dekatvissers@outlook.be
END:VEVENT
BEGIN:VEVENT
DTSTART;TZID=Europe/Paris:20261010T113000
DTEND;TZID=Europe/Paris:20261010T174500
DTSTAMP:20260420T163334
CREATED:20251004T093022Z
LAST-MODIFIED:20260201T121135Z
UID:5767-1791631800-1791654300@www.dekatvissers.be
SUMMARY:Kampioenschap 8
DESCRIPTION:Loting om 11u30\nVissen van 13u00 tot 17u45 (met pauze)\nMeer info op https://www.dekatvissers.be/wedstrijdreglement-2026
URL:https://www.dekatvissers.be/event/kampioenschap-8-5/
LOCATION:Sint-Elooiskreek\, Sint-Elooispolder 8\, Wachtebeke\, 9185\, België
CATEGORIES:Kampioenschap
ORGANIZER;CN="HSV De Katvissers":MAILTO:dekatvissers@outlook.be
END:VEVENT
BEGIN:VEVENT
DTSTART;TZID=Europe/Paris:20261031T103000
DTEND;TZID=Europe/Paris:20261031T164500
DTSTAMP:20260420T163334
CREATED:20251004T093405Z
LAST-MODIFIED:20260201T121857Z
UID:5777-1793442600-1793465100@www.dekatvissers.be
SUMMARY:Koningsvissing
DESCRIPTION:Loting om 10u30\nVissen van 12u00 tot 16u45 (met pauze)\nMeer info op https://www.dekatvissers.be/wedstrijdreglement-2026
URL:https://www.dekatvissers.be/event/koningsvissing/
LOCATION:Sint-Elooiskreek\, Sint-Elooispolder 8\, Wachtebeke\, 9185\, België
CATEGORIES:Koning
ORGANIZER;CN="HSV De Katvissers":MAILTO:dekatvissers@outlook.be
END:VEVENT
BEGIN:VEVENT
DTSTART;VALUE=DATE:20261114
DTEND;VALUE=DATE:20261115
DTSTAMP:20260420T163334
CREATED:20251004T093439Z
LAST-MODIFIED:20251004T093439Z
UID:5779-1794614400-1794700799@www.dekatvissers.be
SUMMARY:Feestavond
DESCRIPTION:
URL:https://www.dekatvissers.be/event/feestavond-5/
LOCATION:De Gouden Kroon\, Marktplein 3\, Ertvelde\, 9940\, België
CATEGORIES:Evenement
ORGANIZER;CN="HSV De Katvissers":MAILTO:dekatvissers@outlook.be
END:VEVENT
END:VCALENDAR